BEGIN:VCALENDAR
VERSION:2.0
PRODID:-//wp-events-plugin.com//7.2.3.1//EN
TZID:Europe/London
X-WR-TIMEZONE:Europe/London
BEGIN:VEVENT
UID:5042@winchelsea.com
DTSTART;TZID=Europe/London:20200320T090000
DTEND;TZID=Europe/London:20200320T100000
DTSTAMP:20200317T150843Z
URL:https://www.winchelsea.com/events/zumba-2-2020-03-20/
SUMMARY:Scottish Dancing CANCELLED
DESCRIPTION:£5 per session. Everyone welcome: it's a very friendly group. 
 Suitable for all levels of experience and fitness.\nContact Maddy on 01797
  226338 for details.
END:VEVENT
BEGIN:VTIMEZONE
TZID:Europe/London
X-LIC-LOCATION:Europe/London
BEGIN:STANDARD
DTSTART:20191027T010000
TZOFFSETFROM:+0100
TZOFFSETTO:+0000
TZNAME:GMT
END:STANDARD
END:VTIMEZONE
END:VCALENDAR