BEGIN:VCALENDAR
VERSION:2.0
PRODID:-//wp-events-plugin.com//7.2.3.1//EN
TZID:Europe/London
X-WR-TIMEZONE:Europe/London
BEGIN:VEVENT
UID:720@winchelsea.com
DTSTART;TZID=Europe/London:20161025T140000
DTEND;TZID=Europe/London:20161025T160000
DTSTAMP:20160914T090449Z
URL:https://www.winchelsea.com/events/winchelsea-singers-2016-10-25/
SUMMARY:Winchelsea Singers
DESCRIPTION:Join our wonderfully committed group of singers.\n\nWe do three
  performance a year. Two in the New Hall and one in the Church.\n\nWe star
 t in September and perform an operetta in October. This year it is Die Fl
 edermaus (The Bat) by Johan Strauss. We do a Christmas concert in Winchels
 ea Church in December. And a classical concert around Easter.\n\nAll welco
 me. Come along and talk to Charlotte or ring her on 01797 223159.\n\n£40
  for the year.
END:VEVENT
BEGIN:VTIMEZONE
TZID:Europe/London
X-LIC-LOCATION:Europe/London
BEGIN:DAYLIGHT
DTSTART:20160327T020000
TZOFFSETFROM:+0000
TZOFFSETTO:+0100
TZNAME:BST
END:DAYLIGHT
END:VTIMEZONE
END:VCALENDAR