BEGIN:VCALENDAR
VERSION:2.0
PRODID:-//wp-events-plugin.com//7.2.3.1//EN
TZID:Europe/London
X-WR-TIMEZONE:Europe/London
BEGIN:VEVENT
UID:8254@winchelsea.com
DTSTART;TZID=Europe/London:20240329T170000
DTEND;TZID=Europe/London:20240329T180000
DTSTAMP:20230308T122644Z
URL:https://www.winchelsea.com/events/winchelsea-garden-society-spring-sho
 w-set-up/
SUMMARY:Preparation for Garden Society Spring Show
DESCRIPTION:
END:VEVENT
BEGIN:VTIMEZONE
TZID:Europe/London
X-LIC-LOCATION:Europe/London
BEGIN:STANDARD
DTSTART:20231029T010000
TZOFFSETFROM:+0100
TZOFFSETTO:+0000
TZNAME:GMT
END:STANDARD
END:VTIMEZONE
END:VCALENDAR