BEGIN:VCALENDAR
VERSION:2.0
PRODID:-//wp-events-plugin.com//7.2.3.1//EN
TZID:Europe/London
X-WR-TIMEZONE:Europe/London
BEGIN:VEVENT
UID:5321@winchelsea.com
DTSTART;TZID=Europe/London:20200711T170000
DTEND;TZID=Europe/London:20200711T223000
DTSTAMP:20200126T175050Z
URL:https://www.winchelsea.com/events/wgfs-event-provisional/
SUMMARY:WGFS Event Provisional
DESCRIPTION:This event replaces previous possible dates of 20 June and 4 Ju
 ly which have been deleted.
END:VEVENT
BEGIN:VTIMEZONE
TZID:Europe/London
X-LIC-LOCATION:Europe/London
BEGIN:DAYLIGHT
DTSTART:20200329T020000
TZOFFSETFROM:+0000
TZOFFSETTO:+0100
TZNAME:BST
END:DAYLIGHT
END:VTIMEZONE
END:VCALENDAR