BEGIN:VCALENDAR
VERSION:2.0
PRODID:-//wp-events-plugin.com//7.2.3.1//EN
TZID:Europe/London
X-WR-TIMEZONE:Europe/London
BEGIN:VEVENT
UID:8247@winchelsea.com
DTSTART;TZID=Europe/London:20230917T080000
DTEND;TZID=Europe/London:20230917T120000
DTSTAMP:20230301T222019Z
URL:https://www.winchelsea.com/events/wedding-reception-rp-clear-up/
SUMMARY:Wedding Reception RP clear up
DESCRIPTION:
END:VEVENT
BEGIN:VTIMEZONE
TZID:Europe/London
X-LIC-LOCATION:Europe/London
BEGIN:DAYLIGHT
DTSTART:20230326T020000
TZOFFSETFROM:+0000
TZOFFSETTO:+0100
TZNAME:BST
END:DAYLIGHT
END:VTIMEZONE
END:VCALENDAR