BEGIN:VCALENDAR
VERSION:2.0
PRODID:-//wp-events-plugin.com//7.2.3.1//EN
TZID:Europe/London
X-WR-TIMEZONE:Europe/London
BEGIN:VEVENT
UID:2494@winchelsea.com
DTSTART;TZID=Europe/London:20180928T120000
DTEND;TZID=Europe/London:20180928T233000
DTSTAMP:20180812T194808Z
URL:https://www.winchelsea.com/events/wedding-reception-preparation-provis
 ional/
SUMMARY:Wedding Reception - preparation
DESCRIPTION:
END:VEVENT
BEGIN:VTIMEZONE
TZID:Europe/London
X-LIC-LOCATION:Europe/London
BEGIN:DAYLIGHT
DTSTART:20180325T020000
TZOFFSETFROM:+0000
TZOFFSETTO:+0100
TZNAME:BST
END:DAYLIGHT
END:VTIMEZONE
END:VCALENDAR