BEGIN:VCALENDAR
VERSION:2.0
PRODID:-//wp-events-plugin.com//7.2.3.1//EN
TZID:Europe/London
X-WR-TIMEZONE:Europe/London
BEGIN:VEVENT
UID:9242@winchelsea.com
DTSTART;TZID=Europe/London:20231212T140000
DTEND;TZID=Europe/London:20231212T153000
DTSTAMP:20231108T001447Z
URL:https://www.winchelsea.com/events/tune-in-winchelsea-singing-group-202
 3-12-12/
SUMMARY:Not here today Tune In Winchelsea Singing Group
DESCRIPTION:Fun singing group run by local tenor Gary Marriot. All welcome.
  No previous experience needed. Tea\, coffee\, biscuits and social chat af
 terwards. £4 per session.\n\nFor more information contact Rosemarie on 07
 941 458628
END:VEVENT
BEGIN:VTIMEZONE
TZID:Europe/London
X-LIC-LOCATION:Europe/London
BEGIN:STANDARD
DTSTART:20231029T010000
TZOFFSETFROM:+0100
TZOFFSETTO:+0000
TZNAME:GMT
END:STANDARD
END:VTIMEZONE
END:VCALENDAR