BEGIN:VCALENDAR
VERSION:2.0
PRODID:-//wp-events-plugin.com//7.2.3.1//EN
TZID:Europe/London
X-WR-TIMEZONE:Europe/London
BEGIN:VEVENT
UID:5447@winchelsea.com
DTSTART;TZID=Europe/London:20200309T100000
DTEND;TZID=Europe/London:20200309T110000
DTSTAMP:20200306T115613Z
URL:https://www.winchelsea.com/events/training-session-pc/
SUMMARY:Training session - PC
DESCRIPTION:
END:VEVENT
BEGIN:VTIMEZONE
TZID:Europe/London
X-LIC-LOCATION:Europe/London
BEGIN:STANDARD
DTSTART:20191027T010000
TZOFFSETFROM:+0100
TZOFFSETTO:+0000
TZNAME:GMT
END:STANDARD
END:VTIMEZONE
END:VCALENDAR