BEGIN:VCALENDAR
VERSION:2.0
PRODID:-//wp-events-plugin.com//7.2.3.1//EN
TZID:Europe/London
X-WR-TIMEZONE:Europe/London
BEGIN:VEVENT
UID:10509@winchelsea.com
DTSTART;TZID=Europe/London:20250323T143000
DTEND;TZID=Europe/London:20250323T163000
DTSTAMP:20250208T095312Z
URL:https://www.winchelsea.com/events/town-meeting-re-the-future-of-the-li
 ttle-shop/
SUMMARY:Town Meeting re the Future of the Little Shop
DESCRIPTION:
END:VEVENT
BEGIN:VTIMEZONE
TZID:Europe/London
X-LIC-LOCATION:Europe/London
BEGIN:STANDARD
DTSTART:20241027T010000
TZOFFSETFROM:+0100
TZOFFSETTO:+0000
TZNAME:GMT
END:STANDARD
END:VTIMEZONE
END:VCALENDAR