BEGIN:VCALENDAR
VERSION:2.0
PRODID:-//wp-events-plugin.com//7.2.3.1//EN
TZID:Europe/London
X-WR-TIMEZONE:Europe/London
BEGIN:VEVENT
UID:5738@winchelsea.com
DTSTART;TZID=Europe/London:20200819T170000
DTEND;TZID=Europe/London:20200819T203000
DTSTAMP:20200818T235217Z
URL:https://www.winchelsea.com/events/tomboogie-2020-08-19/
SUMMARY:Tomboogie
DESCRIPTION:
END:VEVENT
BEGIN:VTIMEZONE
TZID:Europe/London
X-LIC-LOCATION:Europe/London
BEGIN:DAYLIGHT
DTSTART:20200329T020000
TZOFFSETFROM:+0000
TZOFFSETTO:+0100
TZNAME:BST
END:DAYLIGHT
END:VTIMEZONE
END:VCALENDAR