BEGIN:VCALENDAR
VERSION:2.0
PRODID:-//wp-events-plugin.com//7.2.3.1//EN
TZID:Europe/London
X-WR-TIMEZONE:Europe/London
BEGIN:VEVENT
UID:10206@winchelsea.com
DTSTART;TZID=Europe/London:20250418T180000
DTEND;TZID=Europe/London:20250418T210000
DTSTAMP:20241114T170144Z
URL:https://www.winchelsea.com/events/tbc-literary-society-talk/
SUMMARY:Literary Society talk
DESCRIPTION:
END:VEVENT
BEGIN:VTIMEZONE
TZID:Europe/London
X-LIC-LOCATION:Europe/London
BEGIN:DAYLIGHT
DTSTART:20250330T020000
TZOFFSETFROM:+0000
TZOFFSETTO:+0100
TZNAME:BST
END:DAYLIGHT
END:VTIMEZONE
END:VCALENDAR