BEGIN:VCALENDAR
VERSION:2.0
PRODID:-//wp-events-plugin.com//7.2.3.1//EN
TZID:Europe/London
X-WR-TIMEZONE:Europe/London
BEGIN:VEVENT
UID:8271@winchelsea.com
DTSTART;TZID=Europe/London:20240224T134500
DTEND;TZID=Europe/London:20240224T164500
DTSTAMP:20230503T190143Z
URL:https://www.winchelsea.com/events/tbc-garden-society-talk/
SUMMARY:Garden Society Talk
DESCRIPTION:
END:VEVENT
BEGIN:VTIMEZONE
TZID:Europe/London
X-LIC-LOCATION:Europe/London
BEGIN:STANDARD
DTSTART:20231029T010000
TZOFFSETFROM:+0100
TZOFFSETTO:+0000
TZNAME:GMT
END:STANDARD
END:VTIMEZONE
END:VCALENDAR