BEGIN:VCALENDAR
VERSION:2.0
PRODID:-//wp-events-plugin.com//7.2.3.1//EN
TZID:Europe/London
X-WR-TIMEZONE:Europe/London
BEGIN:VEVENT
UID:10519@winchelsea.com
DTSTART;TZID=Europe/London:20251129T140000
DTEND;TZID=Europe/London:20251129T170000
DTSTAMP:20251101T233311Z
URL:https://www.winchelsea.com/events/talk-by-professor-bale-for-archaeolo
 gical-and-conservation-societies/
SUMMARY:Talk by Professor Bale for Archaeological (WAAHS) and Conservation 
 Societies
DESCRIPTION:
END:VEVENT
BEGIN:VTIMEZONE
TZID:Europe/London
X-LIC-LOCATION:Europe/London
BEGIN:STANDARD
DTSTART:20251026T010000
TZOFFSETFROM:+0100
TZOFFSETTO:+0000
TZNAME:GMT
END:STANDARD
END:VTIMEZONE
END:VCALENDAR