BEGIN:VCALENDAR
VERSION:2.0
PRODID:-//wp-events-plugin.com//7.2.3.1//EN
TZID:Europe/London
X-WR-TIMEZONE:Europe/London
BEGIN:VEVENT
UID:10328@winchelsea.com
DTSTART;TZID=Europe/London:20241117T103000
DTEND;TZID=Europe/London:20241117T113000
DTSTAMP:20241114T163640Z
URL:https://www.winchelsea.com/events/table-tennis-3/
SUMMARY:Table tennis
DESCRIPTION:
END:VEVENT
BEGIN:VTIMEZONE
TZID:Europe/London
X-LIC-LOCATION:Europe/London
BEGIN:STANDARD
DTSTART:20241027T010000
TZOFFSETFROM:+0100
TZOFFSETTO:+0000
TZNAME:GMT
END:STANDARD
END:VTIMEZONE
END:VCALENDAR