BEGIN:VCALENDAR
VERSION:2.0
PRODID:-//wp-events-plugin.com//7.2.3.1//EN
TZID:Europe/London
X-WR-TIMEZONE:Europe/London
BEGIN:VEVENT
UID:1982@winchelsea.com
DTSTART;TZID=Europe/London:20190517T190000
DTEND;TZID=Europe/London:20190517T213000
DTSTAMP:20190401T231745Z
URL:https://www.winchelsea.com/events/rye-indoor-bowls-club-2-2019-05-17/
SUMMARY:Rye Indoor Bowls Club - cancelled today
DESCRIPTION:
END:VEVENT
BEGIN:VTIMEZONE
TZID:Europe/London
X-LIC-LOCATION:Europe/London
BEGIN:DAYLIGHT
DTSTART:20190331T020000
TZOFFSETFROM:+0000
TZOFFSETTO:+0100
TZNAME:BST
END:DAYLIGHT
END:VTIMEZONE
END:VCALENDAR