BEGIN:VCALENDAR
VERSION:2.0
PRODID:-//wp-events-plugin.com//7.2.3.1//EN
TZID:Europe/London
X-WR-TIMEZONE:Europe/London
BEGIN:VEVENT
UID:7470@winchelsea.com
DTSTART;TZID=Europe/London:20230803T110000
DTEND;TZID=Europe/London:20230803T234500
DTSTAMP:20230203T181534Z
URL:https://www.winchelsea.com/events/provisional-wedding-event/
SUMMARY:Wedding Reception prep- Heather & Thomas
DESCRIPTION:HS &amp\; TW
END:VEVENT
BEGIN:VTIMEZONE
TZID:Europe/London
X-LIC-LOCATION:Europe/London
BEGIN:DAYLIGHT
DTSTART:20230326T020000
TZOFFSETFROM:+0000
TZOFFSETTO:+0100
TZNAME:BST
END:DAYLIGHT
END:VTIMEZONE
END:VCALENDAR