BEGIN:VCALENDAR
VERSION:2.0
PRODID:-//wp-events-plugin.com//7.2.3.1//EN
TZID:Europe/London
X-WR-TIMEZONE:Europe/London
BEGIN:VEVENT
UID:12511@winchelsea.com
DTSTART;TZID=Europe/London:20260515T120000
DTEND;TZID=Europe/London:20260515T140000
DTSTAMP:20260420T105216Z
URL:https://www.winchelsea.com/events/private-event-bc/
SUMMARY:Private Event (BC)
DESCRIPTION:
END:VEVENT
BEGIN:VTIMEZONE
TZID:Europe/London
X-LIC-LOCATION:Europe/London
BEGIN:DAYLIGHT
DTSTART:20260329T020000
TZOFFSETFROM:+0000
TZOFFSETTO:+0100
TZNAME:BST
END:DAYLIGHT
END:VTIMEZONE
END:VCALENDAR