BEGIN:VCALENDAR
VERSION:2.0
PRODID:-//wp-events-plugin.com//7.2.3.1//EN
TZID:Europe/London
X-WR-TIMEZONE:Europe/London
BEGIN:VEVENT
UID:7375@winchelsea.com
DTSTART;TZID=Europe/London:20221105T170000
DTEND;TZID=Europe/London:20221105T233000
DTSTAMP:20221027T211118Z
URL:https://www.winchelsea.com/events/private-booking-provisional/
SUMMARY:Birthday Party MB
DESCRIPTION:
END:VEVENT
BEGIN:VTIMEZONE
TZID:Europe/London
X-LIC-LOCATION:Europe/London
BEGIN:STANDARD
DTSTART:20221030T010000
TZOFFSETFROM:+0100
TZOFFSETTO:+0000
TZNAME:GMT
END:STANDARD
END:VTIMEZONE
END:VCALENDAR