BEGIN:VCALENDAR
VERSION:2.0
PRODID:-//wp-events-plugin.com//7.2.3.1//EN
TZID:Europe/London
X-WR-TIMEZONE:Europe/London
BEGIN:VEVENT
UID:3915@winchelsea.com
DTSTART;TZID=Europe/London:20230324T170000
DTEND;TZID=Europe/London:20230324T180000
DTSTAMP:20230228T104400Z
URL:https://www.winchelsea.com/events/preparation-for-spring-show-5/
SUMMARY:Preparation for Garden Society Spring Show
DESCRIPTION:
END:VEVENT
BEGIN:VTIMEZONE
TZID:Europe/London
X-LIC-LOCATION:Europe/London
BEGIN:STANDARD
DTSTART:20221030T010000
TZOFFSETFROM:+0100
TZOFFSETTO:+0000
TZNAME:GMT
END:STANDARD
END:VTIMEZONE
END:VCALENDAR