BEGIN:VCALENDAR
VERSION:2.0
PRODID:-//wp-events-plugin.com//7.2.3.1//EN
TZID:Europe/London
X-WR-TIMEZONE:Europe/London
BEGIN:VEVENT
UID:9878@winchelsea.com
DTSTART;TZID=Europe/London:20240502T063000
DTEND;TZID=Europe/London:20240502T220000
DTSTAMP:20240114T173817Z
URL:https://www.winchelsea.com/events/police-and-crime-commissioner-electi
 on/
SUMMARY:Police and Crime Commissioner Election
DESCRIPTION:
END:VEVENT
BEGIN:VTIMEZONE
TZID:Europe/London
X-LIC-LOCATION:Europe/London
BEGIN:DAYLIGHT
DTSTART:20240331T020000
TZOFFSETFROM:+0000
TZOFFSETTO:+0100
TZNAME:BST
END:DAYLIGHT
END:VTIMEZONE
END:VCALENDAR