BEGIN:VCALENDAR
VERSION:2.0
PRODID:-//wp-events-plugin.com//7.2.3.1//EN
TZID:Europe/London
X-WR-TIMEZONE:Europe/London
BEGIN:VEVENT
UID:6062@winchelsea.com
DTSTART;TZID=Europe/London:20200925T074500
DTEND;TZID=Europe/London:20200925T084500
DTSTAMP:20200922T140941Z
URL:https://www.winchelsea.com/events/pilates-one-to-one-mj-3/
SUMMARY:Pilates One to One MJ
DESCRIPTION:
END:VEVENT
BEGIN:VTIMEZONE
TZID:Europe/London
X-LIC-LOCATION:Europe/London
BEGIN:DAYLIGHT
DTSTART:20200329T020000
TZOFFSETFROM:+0000
TZOFFSETTO:+0100
TZNAME:BST
END:DAYLIGHT
END:VTIMEZONE
END:VCALENDAR