BEGIN:VCALENDAR
VERSION:2.0
PRODID:-//wp-events-plugin.com//7.2.3.1//EN
TZID:Europe/London
X-WR-TIMEZONE:Europe/London
BEGIN:VEVENT
UID:3477@winchelsea.com
DTSTART;TZID=Europe/London:20190515T090000
DTEND;TZID=Europe/London:20190515T100000
DTSTAMP:20190501T123809Z
URL:https://www.winchelsea.com/events/pilates-2019-05-15/
SUMMARY:Pilates cancelled today
DESCRIPTION:I am a qualified STOTT Pilates instructor. STOTT Pilates is bas
 ed on Biomechanics and Exercise science. Pilates has come a long way since
  Joseph started out in the 1920s!\n\nThough many of the original teachings
  including the truth of this statement he made still applies.\n\n‘In 10 
 sessions you’ll feel the difference\, in 20 you’ll see the difference 
 and in 30 you’ll have a new body’\n\nWhether you are interested in 1 t
 o 1 sessions\, coming to a class or simply want to know a bit more please 
 get in touch!\n\nMJ\n\nPhone 07932 525400 or Email mj@corepilateswithmj
 .com\n\nwww.corepilateswithmj.com\n\n&nbsp\;
END:VEVENT
BEGIN:VTIMEZONE
TZID:Europe/London
X-LIC-LOCATION:Europe/London
BEGIN:DAYLIGHT
DTSTART:20190331T020000
TZOFFSETFROM:+0000
TZOFFSETTO:+0100
TZNAME:BST
END:DAYLIGHT
END:VTIMEZONE
END:VCALENDAR