BEGIN:VCALENDAR
VERSION:2.0
PRODID:-//wp-events-plugin.com//7.2.3.1//EN
TZID:Europe/London
X-WR-TIMEZONE:Europe/London
BEGIN:VEVENT
UID:12514@winchelsea.com
DTSTART;TZID=Europe/London:20260426T173000
DTEND;TZID=Europe/London:20260426T183000
DTSTAMP:20260420T164606Z
URL:https://www.winchelsea.com/events/pickleball-10/
SUMMARY:Pickleball
DESCRIPTION:
END:VEVENT
BEGIN:VTIMEZONE
TZID:Europe/London
X-LIC-LOCATION:Europe/London
BEGIN:DAYLIGHT
DTSTART:20260329T020000
TZOFFSETFROM:+0000
TZOFFSETTO:+0100
TZNAME:BST
END:DAYLIGHT
END:VTIMEZONE
END:VCALENDAR