BEGIN:VCALENDAR
VERSION:2.0
PRODID:-//wp-events-plugin.com//7.2.3.1//EN
TZID:Europe/London
X-WR-TIMEZONE:Europe/London
BEGIN:VEVENT
UID:5316@winchelsea.com
DTSTART;TZID=Europe/London:20200718T053000
DTEND;TZID=Europe/London:20200718T110000
DTSTAMP:20200224T212742Z
URL:https://www.winchelsea.com/events/opera-evening-for-rye-harbour-sailab
 ility/
SUMMARY:Opera Evening for Rye Harbour Sailability
DESCRIPTION:It is an evening of opera organised by Mervyn Hayes. There are 
 three opera singers\, a soprano\, a tenor and a baritone. It will be a bla
 ck tie event with champagne and canapes. There will be an interval lasting
  about 30 minutes when strawberries and cream will be served.
END:VEVENT
BEGIN:VTIMEZONE
TZID:Europe/London
X-LIC-LOCATION:Europe/London
BEGIN:DAYLIGHT
DTSTART:20200329T020000
TZOFFSETFROM:+0000
TZOFFSETTO:+0100
TZNAME:BST
END:DAYLIGHT
END:VTIMEZONE
END:VCALENDAR