BEGIN:VCALENDAR
VERSION:2.0
PRODID:-//wp-events-plugin.com//7.2.3.1//EN
TZID:Europe/London
X-WR-TIMEZONE:Europe/London
BEGIN:VEVENT
UID:5446@winchelsea.com
DTSTART;TZID=Europe/London:20200523T120000
DTEND;TZID=Europe/London:20200523T163000
DTSTAMP:20200305T143912Z
URL:https://www.winchelsea.com/events/new-hall-event-provisional/
SUMMARY:New hall Event - provisional
DESCRIPTION:
END:VEVENT
BEGIN:VTIMEZONE
TZID:Europe/London
X-LIC-LOCATION:Europe/London
BEGIN:DAYLIGHT
DTSTART:20200329T020000
TZOFFSETFROM:+0000
TZOFFSETTO:+0100
TZNAME:BST
END:DAYLIGHT
END:VTIMEZONE
END:VCALENDAR