BEGIN:VCALENDAR
VERSION:2.0
PRODID:-//wp-events-plugin.com//7.2.3.1//EN
TZID:Europe/London
X-WR-TIMEZONE:Europe/London
BEGIN:VEVENT
UID:12498@winchelsea.com
DTSTART;TZID=Europe/London;VALUE=DATE:20270220
DTEND;TZID=Europe/London;VALUE=DATE:20270221
DTSTAMP:20260325T171506Z
URL:https://www.winchelsea.com/events/merry-opera-company-3/
SUMMARY:Merry Opera Company
DESCRIPTION:
END:VEVENT
BEGIN:VTIMEZONE
TZID:Europe/London
X-LIC-LOCATION:Europe/London
BEGIN:STANDARD
DTSTART:20261025T010000
TZOFFSETFROM:+0100
TZOFFSETTO:+0000
TZNAME:GMT
END:STANDARD
END:VTIMEZONE
END:VCALENDAR