BEGIN:VCALENDAR
VERSION:2.0
PRODID:-//wp-events-plugin.com//7.2.3.1//EN
TZID:Europe/London
X-WR-TIMEZONE:Europe/London
BEGIN:VEVENT
UID:6396@winchelsea.com
DTSTART;TZID=Europe/London:20210924T190000
DTEND;TZID=Europe/London:20210924T210000
DTSTAMP:20210823T121618Z
URL:https://www.winchelsea.com/events/literary-society-meeting-tbc/
SUMMARY:Literary Society Meeting: Dr Patricia Erskine-Hill on Vlad the Impa
 ler and the Legend of Dracula
DESCRIPTION:
END:VEVENT
BEGIN:VTIMEZONE
TZID:Europe/London
X-LIC-LOCATION:Europe/London
BEGIN:DAYLIGHT
DTSTART:20210328T020000
TZOFFSETFROM:+0000
TZOFFSETTO:+0100
TZNAME:BST
END:DAYLIGHT
END:VTIMEZONE
END:VCALENDAR