BEGIN:VCALENDAR
VERSION:2.0
PRODID:-//wp-events-plugin.com//7.2.3.1//EN
TZID:Europe/London
X-WR-TIMEZONE:Europe/London
BEGIN:VEVENT
UID:10066@winchelsea.com
DTSTART;TZID=Europe/London;VALUE=DATE:20250719
DTEND;TZID=Europe/London;VALUE=DATE:20250720
DTSTAMP:20240529T160408Z
URL:https://www.winchelsea.com/events/kara-sams-wedding-reception/
SUMMARY:Kara & Sam's Wedding Reception
DESCRIPTION:
END:VEVENT
BEGIN:VTIMEZONE
TZID:Europe/London
X-LIC-LOCATION:Europe/London
BEGIN:DAYLIGHT
DTSTART:20250330T020000
TZOFFSETFROM:+0000
TZOFFSETTO:+0100
TZNAME:BST
END:DAYLIGHT
END:VTIMEZONE
END:VCALENDAR