BEGIN:VCALENDAR
VERSION:2.0
PRODID:-//wp-events-plugin.com//7.2.3.1//EN
TZID:Europe/London
X-WR-TIMEZONE:Europe/London
BEGIN:VEVENT
UID:6063@winchelsea.com
DTSTART;TZID=Europe/London:20201015T080000
DTEND;TZID=Europe/London:20201015T180000
DTSTAMP:20200922T230447Z
URL:https://www.winchelsea.com/events/homeschooling-reviews-k-j/
SUMMARY:Homeschooling Reviews K-J
DESCRIPTION:
END:VEVENT
BEGIN:VTIMEZONE
TZID:Europe/London
X-LIC-LOCATION:Europe/London
BEGIN:DAYLIGHT
DTSTART:20200329T020000
TZOFFSETFROM:+0000
TZOFFSETTO:+0100
TZNAME:BST
END:DAYLIGHT
END:VTIMEZONE
END:VCALENDAR