BEGIN:VCALENDAR
VERSION:2.0
PRODID:-//wp-events-plugin.com//7.2.3.1//EN
TZID:Europe/London
X-WR-TIMEZONE:Europe/London
BEGIN:VEVENT
UID:3859@winchelsea.com
DTSTART;TZID=Europe/London:20190721T000000
DTEND;TZID=Europe/London:20190721T180000
DTSTAMP:20190603T082444Z
URL:https://www.winchelsea.com/events/heringtons-solicitors-family-party/
SUMMARY:Heringtons Solicitors Family Party
DESCRIPTION:
END:VEVENT
BEGIN:VTIMEZONE
TZID:Europe/London
X-LIC-LOCATION:Europe/London
BEGIN:DAYLIGHT
DTSTART:20190331T020000
TZOFFSETFROM:+0000
TZOFFSETTO:+0100
TZNAME:BST
END:DAYLIGHT
END:VTIMEZONE
END:VCALENDAR