BEGIN:VCALENDAR
VERSION:2.0
PRODID:-//wp-events-plugin.com//7.2.3.1//EN
TZID:Europe/London
X-WR-TIMEZONE:Europe/London
BEGIN:VEVENT
UID:12509@winchelsea.com
DTSTART;TZID=Europe/London;VALUE=DATE:20260429
DTEND;TZID=Europe/London;VALUE=DATE:20260430
DTSTAMP:20260415T212713Z
URL:https://www.winchelsea.com/events/hall-closed-for-electrical-works/
SUMMARY:Hall closed for electrical works
DESCRIPTION:
END:VEVENT
BEGIN:VTIMEZONE
TZID:Europe/London
X-LIC-LOCATION:Europe/London
BEGIN:DAYLIGHT
DTSTART:20260329T020000
TZOFFSETFROM:+0000
TZOFFSETTO:+0100
TZNAME:BST
END:DAYLIGHT
END:VTIMEZONE
END:VCALENDAR