BEGIN:VCALENDAR
VERSION:2.0
PRODID:-//wp-events-plugin.com//7.2.3.1//EN
TZID:Europe/London
X-WR-TIMEZONE:Europe/London
BEGIN:VEVENT
UID:2230@winchelsea.com
DTSTART;TZID=Europe/London:20171108T173000
DTEND;TZID=Europe/London:20171108T193000
DTSTAMP:20171030T143727Z
URL:https://www.winchelsea.com/events/forever-try-die-2017-11-08/
SUMMARY:Forever Tri
DESCRIPTION:
END:VEVENT
BEGIN:VTIMEZONE
TZID:Europe/London
X-LIC-LOCATION:Europe/London
BEGIN:STANDARD
DTSTART:20171029T010000
TZOFFSETFROM:+0100
TZOFFSETTO:+0000
TZNAME:GMT
END:STANDARD
END:VTIMEZONE
END:VCALENDAR