BEGIN:VCALENDAR
VERSION:2.0
PRODID:-//wp-events-plugin.com//7.2.3.1//EN
TZID:Europe/London
X-WR-TIMEZONE:Europe/London
BEGIN:VEVENT
UID:628@winchelsea.com
DTSTART;TZID=Europe/London;VALUE=DATE:20170722
DTEND;TZID=Europe/London;VALUE=DATE:20170723
DTSTAMP:20170305T141113Z
URL:https://www.winchelsea.com/events/e-lambert-private-50th-birthday-part
 y/
SUMMARY:Private Birthday Party
DESCRIPTION:
END:VEVENT
BEGIN:VTIMEZONE
TZID:Europe/London
X-LIC-LOCATION:Europe/London
BEGIN:DAYLIGHT
DTSTART:20170326T020000
TZOFFSETFROM:+0000
TZOFFSETTO:+0100
TZNAME:BST
END:DAYLIGHT
END:VTIMEZONE
END:VCALENDAR