BEGIN:VCALENDAR
VERSION:2.0
PRODID:-//wp-events-plugin.com//7.2.3.1//EN
TZID:Europe/London
X-WR-TIMEZONE:Europe/London
BEGIN:VEVENT
UID:10159@winchelsea.com
DTSTART;TZID=Europe/London:20241117T123000
DTEND;TZID=Europe/London:20241117T183000
DTSTAMP:20240909T232616Z
URL:https://www.winchelsea.com/events/dog-first-aid-training-event/
SUMMARY:Dog First Aid Training Event
DESCRIPTION:
END:VEVENT
BEGIN:VTIMEZONE
TZID:Europe/London
X-LIC-LOCATION:Europe/London
BEGIN:STANDARD
DTSTART:20241027T010000
TZOFFSETFROM:+0100
TZOFFSETTO:+0000
TZNAME:GMT
END:STANDARD
END:VTIMEZONE
END:VCALENDAR