BEGIN:VCALENDAR
VERSION:2.0
PRODID:-//wp-events-plugin.com//7.2.3.1//EN
TZID:Europe/London
X-WR-TIMEZONE:Europe/London
BEGIN:VEVENT
UID:12505@winchelsea.com
DTSTART;TZID=Europe/London:20260516T123000
DTEND;TZID=Europe/London:20260516T173000
DTSTAMP:20260408T233030Z
URL:https://www.winchelsea.com/events/childs-birthday-party/
SUMMARY:Child's Birthday Party CM-M
DESCRIPTION:
END:VEVENT
BEGIN:VTIMEZONE
TZID:Europe/London
X-LIC-LOCATION:Europe/London
BEGIN:DAYLIGHT
DTSTART:20260329T020000
TZOFFSETFROM:+0000
TZOFFSETTO:+0100
TZNAME:BST
END:DAYLIGHT
END:VTIMEZONE
END:VCALENDAR