BEGIN:VCALENDAR
VERSION:2.0
PRODID:-//wp-events-plugin.com//7.2.3.1//EN
TZID:Europe/London
X-WR-TIMEZONE:Europe/London
BEGIN:VEVENT
UID:8622@winchelsea.com
DTSTART;TZID=Europe/London:20231118T170000
DTEND;TZID=Europe/London:20231119T003000
DTSTAMP:20230828T231146Z
URL:https://www.winchelsea.com/events/birthday-party-af/
SUMMARY:Birthday Party AF
DESCRIPTION:
END:VEVENT
BEGIN:VTIMEZONE
TZID:Europe/London
X-LIC-LOCATION:Europe/London
BEGIN:STANDARD
DTSTART:20231029T010000
TZOFFSETFROM:+0100
TZOFFSETTO:+0000
TZNAME:GMT
END:STANDARD
END:VTIMEZONE
END:VCALENDAR