BEGIN:VCALENDAR
VERSION:2.0
PRODID:-//wp-events-plugin.com//7.2.3.1//EN
TZID:Europe/London
X-WR-TIMEZONE:Europe/London
BEGIN:VEVENT
UID:6712@winchelsea.com
DTSTART;TZID=Europe/London:20210822T140000
DTEND;TZID=Europe/London:20210822T170000
DTSTAMP:20210815T100113Z
URL:https://www.winchelsea.com/events/band-practice-for-something-else/
SUMMARY:Band practice for Something Else
DESCRIPTION:
END:VEVENT
BEGIN:VTIMEZONE
TZID:Europe/London
X-LIC-LOCATION:Europe/London
BEGIN:DAYLIGHT
DTSTART:20210328T020000
TZOFFSETFROM:+0000
TZOFFSETTO:+0100
TZNAME:BST
END:DAYLIGHT
END:VTIMEZONE
END:VCALENDAR