BEGIN:VCALENDAR
VERSION:2.0
PRODID:-//wp-events-plugin.com//7.2.3.1//EN
TZID:Europe/London
X-WR-TIMEZONE:Europe/London
BEGIN:VEVENT
UID:3874@winchelsea.com
DTSTART;TZID=Europe/London:20190827T093000
DTEND;TZID=Europe/London:20190827T103000
DTSTAMP:20190826T152512Z
URL:https://www.winchelsea.com/events/badminton-2019-08-27/
SUMMARY:Badminton-will run-not cancelled
DESCRIPTION:The hall will be cleaned on Tuesday this week since Monday 26 A
 ugust is the Summer Bank Holiday. 
END:VEVENT
BEGIN:VTIMEZONE
TZID:Europe/London
X-LIC-LOCATION:Europe/London
BEGIN:DAYLIGHT
DTSTART:20190331T020000
TZOFFSETFROM:+0000
TZOFFSETTO:+0100
TZNAME:BST
END:DAYLIGHT
END:VTIMEZONE
END:VCALENDAR