BEGIN:VCALENDAR
VERSION:2.0
PRODID:-//wp-events-plugin.com//7.2.3.1//EN
TZID:Europe/London
X-WR-TIMEZONE:Europe/London
BEGIN:VEVENT
UID:6230@winchelsea.com
DTSTART;TZID=Europe/London:20210707T150000
DTEND;TZID=Europe/London:20210707T190000
DTSTAMP:20210630T191340Z
URL:https://www.winchelsea.com/events/alan-mckinna-memorial/
SUMMARY:Alan McKinna Memorial
DESCRIPTION:Test run to be made between the Church and Hall to ensure live 
 streaming of the event.
END:VEVENT
BEGIN:VTIMEZONE
TZID:Europe/London
X-LIC-LOCATION:Europe/London
BEGIN:DAYLIGHT
DTSTART:20210328T020000
TZOFFSETFROM:+0000
TZOFFSETTO:+0100
TZNAME:BST
END:DAYLIGHT
END:VTIMEZONE
END:VCALENDAR