BEGIN:VCALENDAR
VERSION:2.0
PRODID:-//wp-events-plugin.com//7.2.3.1//EN
TZID:Europe/London
X-WR-TIMEZONE:Europe/London
BEGIN:VEVENT
UID:4518@winchelsea.com
DTSTART;TZID=Europe/London:20161109T140000
DTEND;TZID=Europe/London:20161109T160000
DTSTAMP:20200818T232028Z
URL:https://www.winchelsea.com/events/2nd-wednesday-society-2016-11-09-2/
SUMMARY:2nd Wednesday Society
DESCRIPTION:Interesting monthly talks on a wide variety of subjects.\n\nEve
 rybody welcome.
END:VEVENT
BEGIN:VTIMEZONE
TZID:Europe/London
X-LIC-LOCATION:Europe/London
BEGIN:STANDARD
DTSTART:20161030T010000
TZOFFSETFROM:+0100
TZOFFSETTO:+0000
TZNAME:GMT
END:STANDARD
END:VTIMEZONE
END:VCALENDAR